BEGIN:VCALENDAR
VERSION:2.0
PRODID:-//Libertarian Party of Washington - ECPv6.2.4//NONSGML v1.0//EN
CALSCALE:GREGORIAN
METHOD:PUBLISH
X-ORIGINAL-URL:https://lpwa.org
X-WR-CALDESC:Events for Libertarian Party of Washington
REFRESH-INTERVAL;VALUE=DURATION:PT1H
X-Robots-Tag:noindex
X-PUBLISHED-TTL:PT1H
BEGIN:VTIMEZONE
TZID:America/Los_Angeles
BEGIN:DAYLIGHT
TZOFFSETFROM:-0800
TZOFFSETTO:-0700
TZNAME:PDT
DTSTART:20240310T100000
END:DAYLIGHT
BEGIN:STANDARD
TZOFFSETFROM:-0700
TZOFFSETTO:-0800
TZNAME:PST
DTSTART:20241103T090000
END:STANDARD
END:VTIMEZONE
BEGIN:VEVENT
DTSTART;TZID=America/Los_Angeles:20240311T190000
DTEND;TZID=America/Los_Angeles:20240311T210000
DTSTAMP:20231030T130046
CREATED:20220702T060935Z
LAST-MODIFIED:20231029T204255Z
UID:847-1710183600-1710190800@lpwa.org
SUMMARY:Kitsap County Monthly Member Meeting
DESCRIPTION:Also via zoom
URL:https://lpwa.org/event/kitsap-county-monthly-member-meeting-24/
LOCATION:5004 Kitsap Way\nBremerton\, WA\, United States
END:VEVENT
BEGIN:VEVENT
DTSTART;TZID=America/Los_Angeles:20240316T090000
DTEND;TZID=America/Los_Angeles:20240316T103000
DTSTAMP:20231030T130046
CREATED:20220702T060937Z
LAST-MODIFIED:20231029T204255Z
UID:850-1710579600-1710585000@lpwa.org
SUMMARY:LPWA SEC Meeting
DESCRIPTION:
URL:https://lpwa.org/event/lpwa-sec-meeting-23/
END:VEVENT
BEGIN:VEVENT
DTSTART;TZID=America/Los_Angeles:20240319T180000
DTEND;TZID=America/Los_Angeles:20240319T200000
DTSTAMP:20231030T130046
CREATED:20230424T171620Z
LAST-MODIFIED:20231029T204256Z
UID:2380-1710871200-1710878400@lpwa.org
SUMMARY:Spokane Monthly meeting
DESCRIPTION:
URL:https://lpwa.org/event/spokane-monthly-meeting-102/
LOCATION:2202 E Sprague Ave\, Spokane\, WA 99202
END:VEVENT
BEGIN:VEVENT
DTSTART;TZID=America/Los_Angeles:20240408T190000
DTEND;TZID=America/Los_Angeles:20240408T210000
DTSTAMP:20231030T130046
CREATED:20220702T060938Z
LAST-MODIFIED:20231029T204256Z
UID:861-1712602800-1712610000@lpwa.org
SUMMARY:Kitsap County Monthly Member Meeting
DESCRIPTION:Also via zoom
URL:https://lpwa.org/event/kitsap-county-monthly-member-meeting-25/
LOCATION:5004 Kitsap Way\nBremerton\, WA\, United States
END:VEVENT
BEGIN:VEVENT
DTSTART;TZID=America/Los_Angeles:20240416T180000
DTEND;TZID=America/Los_Angeles:20240416T200000
DTSTAMP:20231030T130046
CREATED:20230424T171623Z
LAST-MODIFIED:20231029T204256Z
UID:2381-1713290400-1713297600@lpwa.org
SUMMARY:Spokane Monthly meeting
DESCRIPTION:
URL:https://lpwa.org/event/spokane-monthly-meeting-103/
LOCATION:2202 E Sprague Ave\, Spokane\, WA 99202
END:VEVENT
BEGIN:VEVENT
DTSTART;TZID=America/Los_Angeles:20240420T090000
DTEND;TZID=America/Los_Angeles:20240420T103000
DTSTAMP:20231030T130046
CREATED:20220702T060940Z
LAST-MODIFIED:20231029T204256Z
UID:864-1713603600-1713609000@lpwa.org
SUMMARY:LPWA SEC Meeting
DESCRIPTION:
URL:https://lpwa.org/event/lpwa-sec-meeting-24/
END:VEVENT
BEGIN:VEVENT
DTSTART;TZID=America/Los_Angeles:20240513T190000
DTEND;TZID=America/Los_Angeles:20240513T210000
DTSTAMP:20231030T130046
CREATED:20220702T060941Z
LAST-MODIFIED:20231029T204256Z
UID:866-1715626800-1715634000@lpwa.org
SUMMARY:Kitsap County Monthly Member Meeting
DESCRIPTION:Also via zoom
URL:https://lpwa.org/event/kitsap-county-monthly-member-meeting-26/
LOCATION:5004 Kitsap Way\nBremerton\, WA\, United States
END:VEVENT
BEGIN:VEVENT
DTSTART;TZID=America/Los_Angeles:20240518T090000
DTEND;TZID=America/Los_Angeles:20240518T103000
DTSTAMP:20231030T130046
CREATED:20220702T060941Z
LAST-MODIFIED:20231029T204256Z
UID:867-1716022800-1716028200@lpwa.org
SUMMARY:LPWA SEC Meeting
DESCRIPTION:
URL:https://lpwa.org/event/lpwa-sec-meeting-25/
END:VEVENT
BEGIN:VEVENT
DTSTART;TZID=America/Los_Angeles:20240521T180000
DTEND;TZID=America/Los_Angeles:20240521T200000
DTSTAMP:20231030T130046
CREATED:20221221T215621Z
LAST-MODIFIED:20230424T103345Z
UID:1725-1716314400-1716321600@lpwa.org
SUMMARY:Spokane Monthly meeting
DESCRIPTION:
URL:https://lpwa.org/event/spokane-monthly-meeting-76/
LOCATION:Shawn O’Donnell’s American Grill and Irish Pub\, 719 N Monroe St\, Spokane\, WA 99201\, USA
END:VEVENT
BEGIN:VEVENT
DTSTART;TZID=America/Los_Angeles:20240521T180000
DTEND;TZID=America/Los_Angeles:20240521T200000
DTSTAMP:20231030T130046
CREATED:20230424T171627Z
LAST-MODIFIED:20231029T204256Z
UID:2384-1716314400-1716321600@lpwa.org
SUMMARY:Spokane Monthly meeting
DESCRIPTION:
URL:https://lpwa.org/event/spokane-monthly-meeting-104/
LOCATION:2202 E Sprague Ave\, Spokane\, WA 99202
END:VEVENT
BEGIN:VEVENT
DTSTART;TZID=America/Los_Angeles:20240610T190000
DTEND;TZID=America/Los_Angeles:20240610T210000
DTSTAMP:20231030T130046
CREATED:20220702T060943Z
LAST-MODIFIED:20231029T204256Z
UID:869-1718046000-1718053200@lpwa.org
SUMMARY:Kitsap County Monthly Member Meeting
DESCRIPTION:Also via zoom
URL:https://lpwa.org/event/kitsap-county-monthly-member-meeting-27/
LOCATION:5004 Kitsap Way\nBremerton\, WA\, United States
END:VEVENT
BEGIN:VEVENT
DTSTART;TZID=America/Los_Angeles:20240615T090000
DTEND;TZID=America/Los_Angeles:20240615T103000
DTSTAMP:20231030T130046
CREATED:20220702T060944Z
LAST-MODIFIED:20231029T204256Z
UID:871-1718442000-1718447400@lpwa.org
SUMMARY:LPWA SEC Meeting
DESCRIPTION:
URL:https://lpwa.org/event/lpwa-sec-meeting-26/
END:VEVENT
BEGIN:VEVENT
DTSTART;TZID=America/Los_Angeles:20240618T180000
DTEND;TZID=America/Los_Angeles:20240618T200000
DTSTAMP:20231030T130046
CREATED:20221221T215621Z
LAST-MODIFIED:20230424T103356Z
UID:1726-1718733600-1718740800@lpwa.org
SUMMARY:Spokane Monthly meeting
DESCRIPTION:
URL:https://lpwa.org/event/spokane-monthly-meeting-77/
LOCATION:Shawn O’Donnell’s American Grill and Irish Pub\, 719 N Monroe St\, Spokane\, WA 99201\, USA
END:VEVENT
BEGIN:VEVENT
DTSTART;TZID=America/Los_Angeles:20240618T180000
DTEND;TZID=America/Los_Angeles:20240618T200000
DTSTAMP:20231030T130046
CREATED:20230424T171631Z
LAST-MODIFIED:20231029T204257Z
UID:2386-1718733600-1718740800@lpwa.org
SUMMARY:Spokane Monthly meeting
DESCRIPTION:
URL:https://lpwa.org/event/spokane-monthly-meeting-105/
LOCATION:2202 E Sprague Ave\, Spokane\, WA 99202
END:VEVENT
BEGIN:VEVENT
DTSTART;TZID=America/Los_Angeles:20240708T190000
DTEND;TZID=America/Los_Angeles:20240708T210000
DTSTAMP:20231030T130046
CREATED:20220709T110452Z
LAST-MODIFIED:20231029T204257Z
UID:960-1720465200-1720472400@lpwa.org
SUMMARY:Kitsap County Monthly Member Meeting
DESCRIPTION:Also via zoom
URL:https://lpwa.org/event/kitsap-county-monthly-member-meeting-28/
LOCATION:5004 Kitsap Way\nBremerton\, WA\, United States
END:VEVENT
BEGIN:VEVENT
DTSTART;TZID=America/Los_Angeles:20240716T180000
DTEND;TZID=America/Los_Angeles:20240716T200000
DTSTAMP:20231030T130046
CREATED:20230424T171633Z
LAST-MODIFIED:20231029T204257Z
UID:2388-1721152800-1721160000@lpwa.org
SUMMARY:Spokane Monthly meeting
DESCRIPTION:
URL:https://lpwa.org/event/spokane-monthly-meeting-106/
LOCATION:2202 E Sprague Ave\, Spokane\, WA 99202
END:VEVENT
BEGIN:VEVENT
DTSTART;TZID=America/Los_Angeles:20240720T090000
DTEND;TZID=America/Los_Angeles:20240720T103000
DTSTAMP:20231030T130046
CREATED:20220721T024911Z
LAST-MODIFIED:20231029T204257Z
UID:1069-1721466000-1721471400@lpwa.org
SUMMARY:LPWA SEC Meeting
DESCRIPTION:
URL:https://lpwa.org/event/lpwa-sec-meeting-27/
END:VEVENT
BEGIN:VEVENT
DTSTART;TZID=America/Los_Angeles:20240812T190000
DTEND;TZID=America/Los_Angeles:20240812T210000
DTSTAMP:20231030T130046
CREATED:20220813T114613Z
LAST-MODIFIED:20231029T204257Z
UID:1162-1723489200-1723496400@lpwa.org
SUMMARY:Kitsap County Monthly Member Meeting
DESCRIPTION:Also via zoom
URL:https://lpwa.org/event/kitsap-county-monthly-member-meeting-29/
LOCATION:5004 Kitsap Way\nBremerton\, WA\, United States
END:VEVENT
BEGIN:VEVENT
DTSTART;TZID=America/Los_Angeles:20240817T090000
DTEND;TZID=America/Los_Angeles:20240817T103000
DTSTAMP:20231030T130046
CREATED:20220817T123650Z
LAST-MODIFIED:20231029T204257Z
UID:1172-1723885200-1723890600@lpwa.org
SUMMARY:LPWA SEC Meeting
DESCRIPTION:
URL:https://lpwa.org/event/lpwa-sec-meeting-28/
END:VEVENT
BEGIN:VEVENT
DTSTART;TZID=America/Los_Angeles:20240820T180000
DTEND;TZID=America/Los_Angeles:20240820T200000
DTSTAMP:20231030T130046
CREATED:20230424T171637Z
LAST-MODIFIED:20231029T204257Z
UID:2389-1724176800-1724184000@lpwa.org
SUMMARY:Spokane Monthly meeting
DESCRIPTION:
URL:https://lpwa.org/event/spokane-monthly-meeting-107/
LOCATION:2202 E Sprague Ave\, Spokane\, WA 99202
END:VEVENT
BEGIN:VEVENT
DTSTART;TZID=America/Los_Angeles:20240909T190000
DTEND;TZID=America/Los_Angeles:20240909T210000
DTSTAMP:20231030T130046
CREATED:20220910T044405Z
LAST-MODIFIED:20231029T204258Z
UID:1279-1725908400-1725915600@lpwa.org
SUMMARY:Kitsap County Monthly Member Meeting
DESCRIPTION:Also via zoom
URL:https://lpwa.org/event/kitsap-county-monthly-member-meeting-30/
LOCATION:5004 Kitsap Way\nBremerton\, WA\, United States
END:VEVENT
BEGIN:VEVENT
DTSTART;TZID=America/Los_Angeles:20240917T180000
DTEND;TZID=America/Los_Angeles:20240917T200000
DTSTAMP:20231030T130046
CREATED:20230424T171639Z
LAST-MODIFIED:20231029T204258Z
UID:2390-1726596000-1726603200@lpwa.org
SUMMARY:Spokane Monthly meeting
DESCRIPTION:
URL:https://lpwa.org/event/spokane-monthly-meeting-108/
LOCATION:2202 E Sprague Ave\, Spokane\, WA 99202
END:VEVENT
BEGIN:VEVENT
DTSTART;TZID=America/Los_Angeles:20240921T090000
DTEND;TZID=America/Los_Angeles:20240921T103000
DTSTAMP:20231030T130046
CREATED:20220921T060913Z
LAST-MODIFIED:20231029T204258Z
UID:1325-1726909200-1726914600@lpwa.org
SUMMARY:LPWA SEC Meeting
DESCRIPTION:
URL:https://lpwa.org/event/lpwa-sec-meeting-29/
END:VEVENT
BEGIN:VEVENT
DTSTART;TZID=America/Los_Angeles:20241014T190000
DTEND;TZID=America/Los_Angeles:20241014T210000
DTSTAMP:20231030T130046
CREATED:20221015T111405Z
LAST-MODIFIED:20231029T204258Z
UID:1425-1728932400-1728939600@lpwa.org
SUMMARY:Kitsap County Monthly Member Meeting
DESCRIPTION:Also via zoom
URL:https://lpwa.org/event/kitsap-county-monthly-member-meeting-31/
LOCATION:5004 Kitsap Way\nBremerton\, WA\, United States
END:VEVENT
BEGIN:VEVENT
DTSTART;TZID=America/Los_Angeles:20241015T180000
DTEND;TZID=America/Los_Angeles:20241015T200000
DTSTAMP:20231030T130046
CREATED:20230424T171642Z
LAST-MODIFIED:20231029T204258Z
UID:2391-1729015200-1729022400@lpwa.org
SUMMARY:Spokane Monthly meeting
DESCRIPTION:
URL:https://lpwa.org/event/spokane-monthly-meeting-109/
LOCATION:2202 E Sprague Ave\, Spokane\, WA 99202
END:VEVENT
BEGIN:VEVENT
DTSTART;TZID=America/Los_Angeles:20241019T090000
DTEND;TZID=America/Los_Angeles:20241019T103000
DTSTAMP:20231030T130046
CREATED:20221019T115954Z
LAST-MODIFIED:20231029T204258Z
UID:1442-1729328400-1729333800@lpwa.org
SUMMARY:LPWA SEC Meeting
DESCRIPTION:
URL:https://lpwa.org/event/lpwa-sec-meeting-30/
END:VEVENT
BEGIN:VEVENT
DTSTART;TZID=America/Los_Angeles:20241111T190000
DTEND;TZID=America/Los_Angeles:20241111T210000
DTSTAMP:20231030T130046
CREATED:20221112T032758Z
LAST-MODIFIED:20231029T204258Z
UID:1519-1731351600-1731358800@lpwa.org
SUMMARY:Kitsap County Monthly Member Meeting
DESCRIPTION:Also via zoom
URL:https://lpwa.org/event/kitsap-county-monthly-member-meeting-32/
LOCATION:5004 Kitsap Way\nBremerton\, WA\, United States
END:VEVENT
BEGIN:VEVENT
DTSTART;TZID=America/Los_Angeles:20241116T090000
DTEND;TZID=America/Los_Angeles:20241116T103000
DTSTAMP:20231030T130046
CREATED:20221116T043323Z
LAST-MODIFIED:20231029T204258Z
UID:1535-1731747600-1731753000@lpwa.org
SUMMARY:LPWA SEC Meeting
DESCRIPTION:
URL:https://lpwa.org/event/lpwa-sec-meeting-31/
END:VEVENT
BEGIN:VEVENT
DTSTART;TZID=America/Los_Angeles:20241119T180000
DTEND;TZID=America/Los_Angeles:20241119T200000
DTSTAMP:20231030T130046
CREATED:20230424T171645Z
LAST-MODIFIED:20231029T204258Z
UID:2393-1732039200-1732046400@lpwa.org
SUMMARY:Spokane Monthly meeting
DESCRIPTION:
URL:https://lpwa.org/event/spokane-monthly-meeting-110/
LOCATION:2202 E Sprague Ave\, Spokane\, WA 99202
END:VEVENT
BEGIN:VEVENT
DTSTART;TZID=America/Los_Angeles:20241209T190000
DTEND;TZID=America/Los_Angeles:20241209T210000
DTSTAMP:20231030T130046
CREATED:20221210T195357Z
LAST-MODIFIED:20231029T204259Z
UID:1669-1733770800-1733778000@lpwa.org
SUMMARY:Kitsap County Monthly Member Meeting
DESCRIPTION:Also via zoom
URL:https://lpwa.org/event/kitsap-county-monthly-member-meeting-33/
LOCATION:5004 Kitsap Way\nBremerton\, WA\, United States
END:VEVENT
END:VCALENDAR